BEGIN:VCALENDAR
VERSION:2.0
PRODID:icalendar-ruby
CALSCALE:GREGORIAN
METHOD:PUBLISH
BEGIN:VEVENT
DTSTAMP:20260426T023250Z
UID:1d8c0a6e-f2e3-4d3e-bb4a-137951b64089
DTSTART;VALUE=DATE:20250127
DTEND;VALUE=DATE:20250127
DESCRIPTION:Okeeheelee BMX
LOCATION:8145 Forest Hill Blvd  West Palm Beach FL 33413 USA
SUMMARY:Clinic
URL:/site/bmx_races/585203
END:VEVENT
END:VCALENDAR
