BEGIN:VCALENDAR
VERSION:2.0
PRODID:icalendar-ruby
CALSCALE:GREGORIAN
METHOD:PUBLISH
BEGIN:VEVENT
DTSTAMP:20260425T225749Z
UID:e0bcc984-b29c-400d-be54-397c10a044c8
DTSTART;VALUE=DATE:20251109
DTEND;VALUE=DATE:20251109
DESCRIPTION:Carson City BMX
LOCATION:1555 Livermore Ln  Carson City NV 89721 USA
SUMMARY:Local Race Single
URL:/site/bmx_races/585182
END:VEVENT
END:VCALENDAR
