BEGIN:VCALENDAR
VERSION:2.0
PRODID:icalendar-ruby
CALSCALE:GREGORIAN
METHOD:PUBLISH
BEGIN:VEVENT
DTSTAMP:20260424T105911Z
UID:f522bcb2-d81e-4265-8ad8-996fab7fd6f3
DTSTART;VALUE=DATE:20251025
DTEND;VALUE=DATE:20251025
DESCRIPTION:Hire Park BMX
LOCATION:750 E Arthur St  Warsaw IN 46580 USA
SUMMARY:Local Race Single
URL:/site/bmx_races/585088
END:VEVENT
END:VCALENDAR
