BEGIN:VCALENDAR
VERSION:2.0
PRODID:icalendar-ruby
CALSCALE:GREGORIAN
METHOD:PUBLISH
BEGIN:VEVENT
DTSTAMP:20260425T033119Z
UID:a507b835-02cb-4e75-9005-adf262d00364
DTSTART;VALUE=DATE:20250802
DTEND;VALUE=DATE:20250802
DESCRIPTION:Woodland BMX
LOCATION:880 Victory Hwy  West Greenwich RI 02817 USA
SUMMARY:Race for Life Single
URL:/site/bmx_races/584942
END:VEVENT
END:VCALENDAR
