BEGIN:VCALENDAR
VERSION:2.0
PRODID:icalendar-ruby
CALSCALE:GREGORIAN
METHOD:PUBLISH
BEGIN:VEVENT
DTSTAMP:20260424T185752Z
UID:81b3098c-8396-4c2d-9a74-dc2a56e7f9b7
DTSTART;VALUE=DATE:20250810
DTEND;VALUE=DATE:20250810
DESCRIPTION:Circle City BMX
LOCATION:Westgate Park    100 Recreation Rd Dothan AL 36305 USA
SUMMARY:Local Race Single
URL:/site/bmx_races/584896
END:VEVENT
END:VCALENDAR
