BEGIN:VCALENDAR
VERSION:2.0
PRODID:icalendar-ruby
CALSCALE:GREGORIAN
METHOD:PUBLISH
BEGIN:VEVENT
DTSTAMP:20260424T234814Z
UID:fa010533-8f83-41a8-958a-3be014ba8923
DTSTART;VALUE=DATE:20250323
DTEND;VALUE=DATE:20250323
DESCRIPTION:Circle City BMX
LOCATION:Westgate Park    100 Recreation Rd Dothan AL 36305 USA
SUMMARY:Local Race Single
URL:/site/bmx_races/584856
END:VEVENT
END:VCALENDAR
