BEGIN:VCALENDAR
VERSION:2.0
PRODID:icalendar-ruby
CALSCALE:GREGORIAN
METHOD:PUBLISH
BEGIN:VEVENT
DTSTAMP:20260425T103357Z
UID:a372aa2a-6c2e-4078-9e09-0c2a82c898d1
DTSTART;VALUE=DATE:20250216
DTEND;VALUE=DATE:20250216
DESCRIPTION:Circle City BMX
LOCATION:Westgate Park    100 Recreation Rd Dothan AL 36305 USA
SUMMARY:Local Race Single
URL:/site/bmx_races/584846
END:VEVENT
END:VCALENDAR
