BEGIN:VCALENDAR
VERSION:2.0
PRODID:icalendar-ruby
CALSCALE:GREGORIAN
METHOD:PUBLISH
BEGIN:VEVENT
DTSTAMP:20260425T030631Z
UID:8f23e1e4-6a3c-4aee-9d7a-9119d5a109f6
DTSTART;VALUE=DATE:20250112
DTEND;VALUE=DATE:20250112
DESCRIPTION:Circle City BMX
LOCATION:Westgate Park    100 Recreation Rd Dothan AL 36305 USA
SUMMARY:Local Race Single
URL:/site/bmx_races/584836
END:VEVENT
END:VCALENDAR
