BEGIN:VCALENDAR
VERSION:2.0
PRODID:icalendar-ruby
CALSCALE:GREGORIAN
METHOD:PUBLISH
BEGIN:VEVENT
DTSTAMP:20260424T102913Z
UID:536fe53b-9227-46db-a850-dffded5d81a6
DTSTART;VALUE=DATE:20250620
DTEND;VALUE=DATE:20250620
DESCRIPTION:Rusty Bowl BMX
LOCATION:1281 E Gobbi St  Ukiah CA 95482 USA
SUMMARY:Race for Life Double
URL:/site/bmx_races/584812
END:VEVENT
END:VCALENDAR
