BEGIN:VCALENDAR
VERSION:2.0
PRODID:icalendar-ruby
CALSCALE:GREGORIAN
METHOD:PUBLISH
BEGIN:VEVENT
DTSTAMP:20260425T010830Z
UID:9817fab7-5ebc-4de1-95e4-ea103386eec5
DTSTART;VALUE=DATE:20250905
DTEND;VALUE=DATE:20250905
DESCRIPTION:Chandler BMX
LOCATION:298 S Mc Queen Rd  Chandler AZ 85225 USA
SUMMARY:Local Race Single
URL:/site/bmx_races/584767
END:VEVENT
END:VCALENDAR
