BEGIN:VCALENDAR
VERSION:2.0
PRODID:icalendar-ruby
CALSCALE:GREGORIAN
METHOD:PUBLISH
BEGIN:VEVENT
DTSTAMP:20260425T033141Z
UID:16a14758-400e-4b10-9add-f70cee583454
DTSTART;VALUE=DATE:20250210
DTEND;VALUE=DATE:20250210
DESCRIPTION:Chandler BMX
LOCATION:298 S Mc Queen Rd  Chandler AZ 85225 USA
SUMMARY:Local Race Single
URL:/site/bmx_races/584675
END:VEVENT
END:VCALENDAR
