BEGIN:VCALENDAR
VERSION:2.0
PRODID:icalendar-ruby
CALSCALE:GREGORIAN
METHOD:PUBLISH
BEGIN:VEVENT
DTSTAMP:20260426T011247Z
UID:f5a9dd49-fbc4-49ab-b534-bcf7d0c1c3cc
DTSTART;VALUE=DATE:20250416
DTEND;VALUE=DATE:20250416
DESCRIPTION:Burdette Park BMX
LOCATION:5821 Nurrenbern Rd  Evansville IN 47712 USA
SUMMARY:Practice
URL:/site/bmx_races/584557
END:VEVENT
END:VCALENDAR
