BEGIN:VCALENDAR
VERSION:2.0
PRODID:icalendar-ruby
CALSCALE:GREGORIAN
METHOD:PUBLISH
BEGIN:VEVENT
DTSTAMP:20260426T011248Z
UID:b8a2c23a-560b-40c2-8d38-2e8eac7565bb
DTSTART;VALUE=DATE:20250411
DTEND;VALUE=DATE:20250411
DESCRIPTION:Burdette Park BMX
LOCATION:5821 Nurrenbern Rd  Evansville IN 47712 USA
SUMMARY:Local Race Single
URL:/site/bmx_races/584556
END:VEVENT
END:VCALENDAR
