BEGIN:VCALENDAR
VERSION:2.0
PRODID:icalendar-ruby
CALSCALE:GREGORIAN
METHOD:PUBLISH
BEGIN:VEVENT
DTSTAMP:20260425T161119Z
UID:b8e53f1d-0b69-4369-9325-ac38b3d5037f
DTSTART;VALUE=DATE:20250829
DTEND;VALUE=DATE:20250831
DESCRIPTION:Supertrak BMX
LOCATION:Carrie Jane Gray Park 323 Del Laverdure Way Prince George BC V2N4Z
 5 CAN
SUMMARY:Northern Lights Nationals
URL:/site/bmx_races/584538
END:VEVENT
END:VCALENDAR
