BEGIN:VCALENDAR
VERSION:2.0
PRODID:icalendar-ruby
CALSCALE:GREGORIAN
METHOD:PUBLISH
BEGIN:VEVENT
DTSTAMP:20260425T125536Z
UID:6851fc0b-b69e-4f8e-afa4-9eeac111c3f4
DTSTART;VALUE=DATE:20250915
DTEND;VALUE=DATE:20250915
DESCRIPTION:Lemoore BMX Raceway
LOCATION: 1750 Ca 41  Lemoore CA 93245 USA
SUMMARY:Local Race Single
URL:/site/bmx_races/584379
END:VEVENT
END:VCALENDAR
