BEGIN:VCALENDAR
VERSION:2.0
PRODID:icalendar-ruby
CALSCALE:GREGORIAN
METHOD:PUBLISH
BEGIN:VEVENT
DTSTAMP:20260424T190215Z
UID:0f2d9e2a-5fd5-418a-b13d-709120e13e1a
DTSTART;VALUE=DATE:20250217
DTEND;VALUE=DATE:20250217
DESCRIPTION:Lemoore BMX Raceway
LOCATION: 1750 Ca 41  Lemoore CA 93245 USA
SUMMARY:Local Race Single
URL:/site/bmx_races/584349
END:VEVENT
END:VCALENDAR
