BEGIN:VCALENDAR
VERSION:2.0
PRODID:icalendar-ruby
CALSCALE:GREGORIAN
METHOD:PUBLISH
BEGIN:VEVENT
DTSTAMP:20260424T063213Z
UID:6fdf176d-9089-434a-a094-24286aba53d6
DTSTART;VALUE=DATE:20250608
DTEND;VALUE=DATE:20250608
DESCRIPTION:Buffalo Creek BMX
LOCATION:1017 9th Street  Glencoe MN 55336 USA
SUMMARY:State Race Double
URL:/site/bmx_races/584337
END:VEVENT
END:VCALENDAR
