BEGIN:VCALENDAR
VERSION:2.0
PRODID:icalendar-ruby
CALSCALE:GREGORIAN
METHOD:PUBLISH
BEGIN:VEVENT
DTSTAMP:20260424T172254Z
UID:ca51a442-91a4-423f-96a5-16a07d080c0b
DTSTART;VALUE=DATE:20250908
DTEND;VALUE=DATE:20250908
DESCRIPTION:Upstate BMX
LOCATION:6416 Silver Hill Rd  Newark NY 14513 USA
SUMMARY:Clinic
URL:/site/bmx_races/584230
END:VEVENT
END:VCALENDAR
