BEGIN:VCALENDAR
VERSION:2.0
PRODID:icalendar-ruby
CALSCALE:GREGORIAN
METHOD:PUBLISH
BEGIN:VEVENT
DTSTAMP:20260424T220343Z
UID:7c23b14f-39bf-4a5d-a478-ebe32876d968
DTSTART;VALUE=DATE:20250818
DTEND;VALUE=DATE:20250818
DESCRIPTION:Upstate BMX
LOCATION:6416 Silver Hill Rd  Newark NY 14513 USA
SUMMARY:Clinic
URL:/site/bmx_races/584227
END:VEVENT
END:VCALENDAR
