BEGIN:VCALENDAR
VERSION:2.0
PRODID:icalendar-ruby
CALSCALE:GREGORIAN
METHOD:PUBLISH
BEGIN:VEVENT
DTSTAMP:20260424T172152Z
UID:9722c605-0a15-4f51-91dd-0f021457fae6
DTSTART;VALUE=DATE:20250803
DTEND;VALUE=DATE:20250803
DESCRIPTION:Molalla River BMX
LOCATION:920 Toliver Rd  Molalla OR 97038 USA
SUMMARY:Warnicke Single
URL:/site/bmx_races/584196
END:VEVENT
END:VCALENDAR
