BEGIN:VCALENDAR
VERSION:2.0
PRODID:icalendar-ruby
CALSCALE:GREGORIAN
METHOD:PUBLISH
BEGIN:VEVENT
DTSTAMP:20260425T131318Z
UID:addfda30-d75a-4a6e-b1aa-77411a1cee1a
DTSTART;VALUE=DATE:20251009
DTEND;VALUE=DATE:20251009
DESCRIPTION:Burlington BMX
LOCATION:1450 Graham Street  Burlington NC 27217 USA
SUMMARY:Open House
URL:/site/bmx_races/584038
END:VEVENT
END:VCALENDAR
