BEGIN:VCALENDAR
VERSION:2.0
PRODID:icalendar-ruby
CALSCALE:GREGORIAN
METHOD:PUBLISH
BEGIN:VEVENT
DTSTAMP:20260425T144145Z
UID:0590cd9e-eff3-453e-a3cd-bda1499acc73
DTSTART;VALUE=DATE:20250904
DTEND;VALUE=DATE:20250904
DESCRIPTION:Burlington BMX
LOCATION:1450 Graham Street  Burlington NC 27217 USA
SUMMARY:Open House
URL:/site/bmx_races/584033
END:VEVENT
END:VCALENDAR
