BEGIN:VCALENDAR
VERSION:2.0
PRODID:icalendar-ruby
CALSCALE:GREGORIAN
METHOD:PUBLISH
BEGIN:VEVENT
DTSTAMP:20260425T190921Z
UID:0823fe15-113d-4a5f-83e0-53f82863ad04
DTSTART;VALUE=DATE:20250612
DTEND;VALUE=DATE:20250612
DESCRIPTION:Burlington BMX
LOCATION:1450 Graham Street  Burlington NC 27217 USA
SUMMARY:Open House
URL:/site/bmx_races/584021
END:VEVENT
END:VCALENDAR
