BEGIN:VCALENDAR
VERSION:2.0
PRODID:icalendar-ruby
CALSCALE:GREGORIAN
METHOD:PUBLISH
BEGIN:VEVENT
DTSTAMP:20260425T131324Z
UID:b9e0628c-da15-4f23-a2c9-91e8649aa5cb
DTSTART;VALUE=DATE:20251007
DTEND;VALUE=DATE:20251007
DESCRIPTION:Burlington BMX
LOCATION:1450 Graham Street  Burlington NC 27217 USA
SUMMARY:Practice
URL:/site/bmx_races/584001
END:VEVENT
END:VCALENDAR
