BEGIN:VCALENDAR
VERSION:2.0
PRODID:icalendar-ruby
CALSCALE:GREGORIAN
METHOD:PUBLISH
BEGIN:VEVENT
DTSTAMP:20260425T214814Z
UID:7e8657c8-6b2f-4a83-9cf0-07a269bd738f
DTSTART;VALUE=DATE:20250614
DTEND;VALUE=DATE:20250614
DESCRIPTION:Snake River BMX
LOCATION:1860 East 65th South  Idaho Falls ID 83404 USA
SUMMARY:Local Race Single
URL:/site/bmx_races/583949
END:VEVENT
END:VCALENDAR
