BEGIN:VCALENDAR
VERSION:2.0
PRODID:icalendar-ruby
CALSCALE:GREGORIAN
METHOD:PUBLISH
BEGIN:VEVENT
DTSTAMP:20260424T094911Z
UID:22867805-9abf-4fe1-b587-a990c8a486a5
DTSTART;VALUE=DATE:20251210
DTEND;VALUE=DATE:20251210
DESCRIPTION:Yuma BMX
LOCATION:3067 S Pacific Ave  Yuma AZ 85364 USA
SUMMARY:Local Race Single
URL:/site/bmx_races/583715
END:VEVENT
END:VCALENDAR
