BEGIN:VCALENDAR
VERSION:2.0
PRODID:icalendar-ruby
CALSCALE:GREGORIAN
METHOD:PUBLISH
BEGIN:VEVENT
DTSTAMP:20260425T173912Z
UID:3601c854-ac64-4870-8e07-4f023b06a0f9
DTSTART;VALUE=DATE:20251110
DTEND;VALUE=DATE:20251110
DESCRIPTION:Yuma BMX
LOCATION:3067 S Pacific Ave  Yuma AZ 85364 USA
SUMMARY:Local Race Single
URL:/site/bmx_races/583661
END:VEVENT
END:VCALENDAR
