BEGIN:VCALENDAR
VERSION:2.0
PRODID:icalendar-ruby
CALSCALE:GREGORIAN
METHOD:PUBLISH
BEGIN:VEVENT
DTSTAMP:20260425T030640Z
UID:93293388-5ad0-4be9-bef7-3840699c5af3
DTSTART;VALUE=DATE:20251201
DTEND;VALUE=DATE:20251201
DESCRIPTION:Naples BMX
LOCATION:4701 Golden Gate Parkway  Naples FL 34116 USA
SUMMARY:Practice
URL:/site/bmx_races/583548
END:VEVENT
END:VCALENDAR
