BEGIN:VCALENDAR
VERSION:2.0
PRODID:icalendar-ruby
CALSCALE:GREGORIAN
METHOD:PUBLISH
BEGIN:VEVENT
DTSTAMP:20260425T024614Z
UID:4129da73-5b0f-4538-8d72-e1a3905d0318
DTSTART;VALUE=DATE:20251008
DTEND;VALUE=DATE:20251008
DESCRIPTION:Naples BMX
LOCATION:4701 Golden Gate Parkway  Naples FL 34116 USA
SUMMARY:Local Race Single
URL:/site/bmx_races/583535
END:VEVENT
END:VCALENDAR
