BEGIN:VCALENDAR
VERSION:2.0
PRODID:icalendar-ruby
CALSCALE:GREGORIAN
METHOD:PUBLISH
BEGIN:VEVENT
DTSTAMP:20260425T152650Z
UID:43d71803-a10c-4b7b-92cb-a5b308521474
DTSTART;VALUE=DATE:20250407
DTEND;VALUE=DATE:20250407
DESCRIPTION:Naples BMX
LOCATION:4701 Golden Gate Parkway  Naples FL 34116 USA
SUMMARY:Practice
URL:/site/bmx_races/583502
END:VEVENT
END:VCALENDAR
