BEGIN:VCALENDAR
VERSION:2.0
PRODID:icalendar-ruby
CALSCALE:GREGORIAN
METHOD:PUBLISH
BEGIN:VEVENT
DTSTAMP:20260424T065547Z
UID:610e9823-e790-48c1-8b79-1e57de23d9c6
DTSTART;VALUE=DATE:20250226
DTEND;VALUE=DATE:20250226
DESCRIPTION:Naples BMX
LOCATION:4701 Golden Gate Parkway  Naples FL 34116 USA
SUMMARY:Local Race Single
URL:/site/bmx_races/583491
END:VEVENT
END:VCALENDAR
