BEGIN:VCALENDAR
VERSION:2.0
PRODID:icalendar-ruby
CALSCALE:GREGORIAN
METHOD:PUBLISH
BEGIN:VEVENT
DTSTAMP:20260425T110748Z
UID:e2301604-6883-43e1-a9f7-cc45c8480aee
DTSTART;VALUE=DATE:20250221
DTEND;VALUE=DATE:20250221
DESCRIPTION:Sarasota BMX
LOCATION:1590 North Tuttle Avenue  Sarasota FL 34237 USA
SUMMARY:Race for Life Single
URL:/site/bmx_races/583464
END:VEVENT
END:VCALENDAR
