BEGIN:VCALENDAR
VERSION:2.0
PRODID:icalendar-ruby
CALSCALE:GREGORIAN
METHOD:PUBLISH
BEGIN:VEVENT
DTSTAMP:20260425T190952Z
UID:602df829-3ead-4d5c-81ba-e33f4dc22b4d
DTSTART;VALUE=DATE:20251009
DTEND;VALUE=DATE:20251009
DESCRIPTION:Lake Havasu City BMX
LOCATION:7260 Mc Culloch Blvd S. #B  Lake Havasu City AZ 86406 USA
SUMMARY:Local Race Single
URL:/site/bmx_races/583426
END:VEVENT
END:VCALENDAR
