BEGIN:VCALENDAR
VERSION:2.0
PRODID:icalendar-ruby
CALSCALE:GREGORIAN
METHOD:PUBLISH
BEGIN:VEVENT
DTSTAMP:20260424T233829Z
UID:f165cffc-e893-4bfe-bf44-86d51f897249
DTSTART;VALUE=DATE:20250318
DTEND;VALUE=DATE:20250318
DESCRIPTION:Lake Havasu City BMX
LOCATION:7260 Mc Culloch Blvd S. #B  Lake Havasu City AZ 86406 USA
SUMMARY:Local Race Single
URL:/site/bmx_races/583346
END:VEVENT
END:VCALENDAR
