BEGIN:VCALENDAR
VERSION:2.0
PRODID:icalendar-ruby
CALSCALE:GREGORIAN
METHOD:PUBLISH
BEGIN:VEVENT
DTSTAMP:20260426T011239Z
UID:4c4dcc16-9a81-4edc-aa6d-30c9d9247874
DTSTART;VALUE=DATE:20250510
DTEND;VALUE=DATE:20250510
DESCRIPTION:Yukon BMX
LOCATION:Taylor Park Sports Complex   410 N 11th St Yukon OK 73064 USA
SUMMARY:Local Race Single
URL:/site/bmx_races/583271
END:VEVENT
END:VCALENDAR
