BEGIN:VCALENDAR
VERSION:2.0
PRODID:icalendar-ruby
CALSCALE:GREGORIAN
METHOD:PUBLISH
BEGIN:VEVENT
DTSTAMP:20260426T042106Z
UID:612e7573-9c9e-4e19-8050-dcbbd0c5fb06
DTSTART;VALUE=DATE:20250322
DTEND;VALUE=DATE:20250322
DESCRIPTION:Yukon BMX
LOCATION:Taylor Park Sports Complex   410 N 11th St Yukon OK 73064 USA
SUMMARY:Local Race Single
URL:/site/bmx_races/583264
END:VEVENT
END:VCALENDAR
