BEGIN:VCALENDAR
VERSION:2.0
PRODID:icalendar-ruby
CALSCALE:GREGORIAN
METHOD:PUBLISH
BEGIN:VEVENT
DTSTAMP:20260424T071021Z
UID:5dade0e3-3e05-46cf-850b-7a11fc3ddce1
DTSTART;VALUE=DATE:20250803
DTEND;VALUE=DATE:20250803
DESCRIPTION:Akron BMX
LOCATION:800 Derby Downs Drive  Akron OH 44306 USA
SUMMARY:State Race Double
URL:/site/bmx_races/583055
END:VEVENT
END:VCALENDAR
