BEGIN:VCALENDAR
VERSION:2.0
PRODID:icalendar-ruby
CALSCALE:GREGORIAN
METHOD:PUBLISH
BEGIN:VEVENT
DTSTAMP:20260425T154356Z
UID:b6ed924b-6272-4521-8ee7-2e469cc64777
DTSTART;VALUE=DATE:20241102
DTEND;VALUE=DATE:20241102
DESCRIPTION:Sports Park BMX
LOCATION:6901 N Casa Grande Highway  Tucson AZ 85743 USA
SUMMARY:Local Race Single
URL:/site/bmx_races/583041
END:VEVENT
END:VCALENDAR
