BEGIN:VCALENDAR
VERSION:2.0
PRODID:icalendar-ruby
CALSCALE:GREGORIAN
METHOD:PUBLISH
BEGIN:VEVENT
DTSTAMP:20260425T114247Z
UID:9031c625-7eb5-42d6-92e0-b84e951c6e26
DTSTART;VALUE=DATE:20250917
DTEND;VALUE=DATE:20250917
DESCRIPTION:Eagle Park BMX
LOCATION:11800 N Horseshoe Bend Rd  Eagle ID 83616 USA
SUMMARY:Local Race Single
URL:/site/bmx_races/582942
END:VEVENT
END:VCALENDAR
