BEGIN:VCALENDAR
VERSION:2.0
PRODID:icalendar-ruby
CALSCALE:GREGORIAN
METHOD:PUBLISH
BEGIN:VEVENT
DTSTAMP:20260425T221714Z
UID:224cca18-a685-4096-a4c6-f719d39bfef3
DTSTART;VALUE=DATE:20250823
DTEND;VALUE=DATE:20250823
DESCRIPTION:Tanglewood BMX
LOCATION:4061 Clemmons Rd  Clemmons NC 27012  USA
SUMMARY:Local Race Single
URL:/site/bmx_races/582825
END:VEVENT
END:VCALENDAR
