BEGIN:VCALENDAR
VERSION:2.0
PRODID:icalendar-ruby
CALSCALE:GREGORIAN
METHOD:PUBLISH
BEGIN:VEVENT
DTSTAMP:20260426T011240Z
UID:785ff070-6c71-4058-bc1a-cdaf4b82b0c9
DTSTART;VALUE=DATE:20250602
DTEND;VALUE=DATE:20250602
DESCRIPTION:Tanglewood BMX
LOCATION:4061 Clemmons Rd  Clemmons NC 27012  USA
SUMMARY:Local Race Single
URL:/site/bmx_races/582800
END:VEVENT
END:VCALENDAR
