BEGIN:VCALENDAR
VERSION:2.0
PRODID:icalendar-ruby
CALSCALE:GREGORIAN
METHOD:PUBLISH
BEGIN:VEVENT
DTSTAMP:20260426T042124Z
UID:ef2a06d4-96fb-43dc-a4bb-c5e1e4b3efc7
DTSTART;VALUE=DATE:20250426
DTEND;VALUE=DATE:20250426
DESCRIPTION:Tanglewood BMX
LOCATION:4061 Clemmons Rd  Clemmons NC 27012  USA
SUMMARY:Local Race Single
URL:/site/bmx_races/582785
END:VEVENT
END:VCALENDAR
