BEGIN:VCALENDAR
VERSION:2.0
PRODID:icalendar-ruby
CALSCALE:GREGORIAN
METHOD:PUBLISH
BEGIN:VEVENT
DTSTAMP:20260426T042211Z
UID:b7ca7747-4fb4-4b1c-9fb2-fcf0a1429bcd
DTSTART;VALUE=DATE:20250409
DTEND;VALUE=DATE:20250409
DESCRIPTION:Tanglewood BMX
LOCATION:4061 Clemmons Rd  Clemmons NC 27012  USA
SUMMARY:Practice
URL:/site/bmx_races/582773
END:VEVENT
END:VCALENDAR
