BEGIN:VCALENDAR
VERSION:2.0
PRODID:icalendar-ruby
CALSCALE:GREGORIAN
METHOD:PUBLISH
BEGIN:VEVENT
DTSTAMP:20260425T110755Z
UID:39ac6efe-3de4-4731-9d98-00ab177ce6a3
DTSTART;VALUE=DATE:20250917
DTEND;VALUE=DATE:20250917
DESCRIPTION:Wolfe Creek BMX
LOCATION:22843 Creek Road  Chatham ON  CAN
SUMMARY:Practice
URL:/site/bmx_races/582748
END:VEVENT
END:VCALENDAR
