BEGIN:VCALENDAR
VERSION:2.0
PRODID:icalendar-ruby
CALSCALE:GREGORIAN
METHOD:PUBLISH
BEGIN:VEVENT
DTSTAMP:20260425T010745Z
UID:f7cb84af-b480-401e-abd3-bb0c8b377e40
DTSTART;VALUE=DATE:20250820
DTEND;VALUE=DATE:20250820
DESCRIPTION:Wolfe Creek BMX
LOCATION:22843 Creek Road  Chatham ON  CAN
SUMMARY:Local Race Single
URL:/site/bmx_races/582741
END:VEVENT
END:VCALENDAR
