BEGIN:VCALENDAR
VERSION:2.0
PRODID:icalendar-ruby
CALSCALE:GREGORIAN
METHOD:PUBLISH
BEGIN:VEVENT
DTSTAMP:20260425T165418Z
UID:e4877d8e-0a1b-4b37-bae0-133a38ca0bbe
DTSTART;VALUE=DATE:20250521
DTEND;VALUE=DATE:20250521
DESCRIPTION:Wolfe Creek BMX
LOCATION:22843 Creek Road  Chatham ON  CAN
SUMMARY:Practice
URL:/site/bmx_races/582711
END:VEVENT
END:VCALENDAR
