BEGIN:VCALENDAR
VERSION:2.0
PRODID:icalendar-ruby
CALSCALE:GREGORIAN
METHOD:PUBLISH
BEGIN:VEVENT
DTSTAMP:20260426T025458Z
UID:5bdc4fb2-4577-402f-acbf-6ba51c9f8b0d
DTSTART;VALUE=DATE:20250816
DTEND;VALUE=DATE:20250816
DESCRIPTION:Interstate BMX
LOCATION:2600 Fairgrounds Blvd  Kingman AZ 86401 USA
SUMMARY:Local Race Single
URL:/site/bmx_races/582566
END:VEVENT
END:VCALENDAR
