BEGIN:VCALENDAR
VERSION:2.0
PRODID:icalendar-ruby
CALSCALE:GREGORIAN
METHOD:PUBLISH
BEGIN:VEVENT
DTSTAMP:20260424T190231Z
UID:25ba7da9-655e-4146-b812-032ee554245a
DTSTART;VALUE=DATE:20251101
DTEND;VALUE=DATE:20251101
DESCRIPTION:River City BMX
LOCATION:251 Ne Agness  Grants Pass OR 97526 USA
SUMMARY:Local Race Single
URL:/site/bmx_races/582258
END:VEVENT
END:VCALENDAR
