BEGIN:VCALENDAR
VERSION:2.0
PRODID:icalendar-ruby
CALSCALE:GREGORIAN
METHOD:PUBLISH
BEGIN:VEVENT
DTSTAMP:20260425T142003Z
UID:b53b2b51-1aca-4737-b60b-7be259061da8
DTSTART;VALUE=DATE:20250819
DTEND;VALUE=DATE:20250819
DESCRIPTION:River City BMX
LOCATION:251 Ne Agness  Grants Pass OR 97526 USA
SUMMARY:Local Race Single
URL:/site/bmx_races/582198
END:VEVENT
END:VCALENDAR
