BEGIN:VCALENDAR
VERSION:2.0
PRODID:icalendar-ruby
CALSCALE:GREGORIAN
METHOD:PUBLISH
BEGIN:VEVENT
DTSTAMP:20260425T115228Z
UID:d5a6305a-7a79-4ac2-8a4d-7e4c02140709
DTSTART;VALUE=DATE:20251026
DTEND;VALUE=DATE:20251026
DESCRIPTION:County Line BMX
LOCATION:8560 South Colorado Blvd  Centennial CO 80126 USA
SUMMARY:Local Race Single
URL:/site/bmx_races/582165
END:VEVENT
END:VCALENDAR
